BEGIN:VCALENDAR
VERSION:2.0
PRODID:LFV Website-Kit
METHOD:PUBLISH
BEGIN:VEVENT
UID:lfv-143d8e07-03c4-4a24-bc2a-a3146230e629
LOCATION:
SUMMARY:Jahreshauptversammlung
DESCRIPTION:Termin Link: http://feuerwehr-poedeldorf.feuerwehren.bayern/termine/jahreshauptversammlung-1/
URL:http://feuerwehr-poedeldorf.feuerwehren.bayern/termine/jahreshauptversammlung-1/
CLASS:PRIVATE
DTSTART;TZID=Europe/Berlin:20260314T190000
DTEND;TZID=Europe/Berlin:20260314T200000
DTSTAMP:20260421T083701Z
END:VEVENT
END:VCALENDAR