BEGIN:VCALENDAR
VERSION:2.0
PRODID:LFV Website-Kit
METHOD:PUBLISH
BEGIN:VEVENT
UID:lfv-4b7abff1-14f6-4978-aece-bc4adfeb92f8
LOCATION:
SUMMARY:Jugendübung
DESCRIPTION:Jugendübung\n\nTermin Link: http://feuerwehr-poedeldorf.feuerwehren.bayern/termine/jugendubung-18/
URL:http://feuerwehr-poedeldorf.feuerwehren.bayern/termine/jugendubung-18/
CLASS:PRIVATE
DTSTART;TZID=Europe/Berlin:20260314T100000
DTEND;TZID=Europe/Berlin:20260314T110000
DTSTAMP:20260419T143406Z
END:VEVENT
END:VCALENDAR